BEGIN:VCALENDAR
VERSION:2.0
PRODID:-//Oeuvre del Unite - ECPv6.13.2.1//NONSGML v1.0//EN
CALSCALE:GREGORIAN
METHOD:PUBLISH
X-WR-CALNAME:Oeuvre del Unite
X-ORIGINAL-URL:https://www.oeuvredelunite.fr
X-WR-CALDESC:Eventos para Oeuvre del Unite
REFRESH-INTERVAL;VALUE=DURATION:PT1H
X-Robots-Tag:noindex
X-PUBLISHED-TTL:PT1H
BEGIN:VTIMEZONE
TZID:America/Guatemala
BEGIN:STANDARD
TZOFFSETFROM:-0600
TZOFFSETTO:-0600
TZNAME:CST
DTSTART:20200101T000000
END:STANDARD
END:VTIMEZONE
BEGIN:VTIMEZONE
TZID:UTC
BEGIN:STANDARD
TZOFFSETFROM:+0000
TZOFFSETTO:+0000
TZNAME:UTC
DTSTART:20200101T000000
END:STANDARD
END:VTIMEZONE
BEGIN:VEVENT
DTSTART;TZID=America/Guatemala:20200531T100000
DTEND;TZID=America/Guatemala:20200531T110000
DTSTAMP:20260425T092915
CREATED:20200529T043157Z
LAST-MODIFIED:20200530T032744Z
UID:8156-1590919200-1590922800@www.oeuvredelunite.fr
SUMMARY:Solemnidad De Pentecostés
DESCRIPTION:Este domingo viviremos un día de júbilo en toda la Iglesia\, al celebrar la venida del Espíritu Santo. Que nuestro corazón llegue dispuesto para recibir este fuego que aviva y renueva el alma\, aquel que nos hace vivir de Fe y Esperanza\, dejando que Dios mismo tome posesión de nosotros y nos cambie a Su medida. Que el Espíritu Santo que se nos ha dado\, sea nuestra alegría perfecta y profunda de ayer\, hoy y siempre. Que sea el fruto del crecimiento de la gracia de Dios en nosotros\, esa luz que brilla en nuestro actuar. Quedamos todos invitados a conectarnos a través de nuestro canal de YouTube para juntos conmemorar esta importante festividad.
URL:https://www.oeuvredelunite.fr/event/solemnidad-de-pentecostes/
LOCATION:YouTube OMMRU
ORGANIZER;CN="OMMRU":MAILTO:info@obradelaunidad.org
END:VEVENT
BEGIN:VEVENT
DTSTART;TZID=America/Guatemala:20200524T100000
DTEND;TZID=America/Guatemala:20200524T110000
DTSTAMP:20260425T092915
CREATED:20200522T221136Z
LAST-MODIFIED:20200523T205151Z
UID:8030-1590314400-1590318000@www.oeuvredelunite.fr
SUMMARY:Solemnidad: Ascensión del Señor
DESCRIPTION:El próximo domingo estamos invitados a celebrar la Solemnidad de la Ascensión del Señor Jesús a los Cielos. Esta es una fiesta de gran gozo para la Iglesia Universal\, porque vemos a Cristo glorificado. Jesús nos abre el camino a la vida eterna y nos deja una puerta abierta por la que entraremos a formar parte de la alegría eterna. Con su Ascensión\, el Señor nos guía con una nueva luz hacia el Reino de Dios\, y nos deja la misión de ser testigos de su Evangelio en todo momento y lugar. Como miembros de la Obra María Madre y Reina de la Unidad\, dispongamos el corazón en cada paso de nuestras vidas\, para buscar ser siempre fieles al Maestro\, viviendo el amor Misericordioso con aquellos que están junto a nosotros cada día. Vivamos unidos en familia esta Sagrada Eucaristía\, abriendo las puertas de nuestros corazones para recibir la Palabra de Dios y permitir al Espíritu Santo obrar en nosotros.
URL:https://www.oeuvredelunite.fr/event/solemnidad-ascension-del-senor/
LOCATION:YouTube OMMRU
ORGANIZER;CN="OMMRU":MAILTO:info@obradelaunidad.org
END:VEVENT
BEGIN:VEVENT
DTSTART;TZID=America/Guatemala:20200520T190000
DTEND;TZID=America/Guatemala:20200520T200000
DTSTAMP:20260425T092915
CREATED:20200520T002301Z
LAST-MODIFIED:20200522T221517Z
UID:7923-1590001200-1590004800@www.oeuvredelunite.fr
SUMMARY:Misa Solemne por el Maestro Jesús de la Unidad\, Jesús del Amor
DESCRIPTION:El día  día de mañana\, 20 de mayo\, viviremos la mayor celebración de nuestra amada Obra “María\, Madre y Reina de la Unidad”: «La Solemnidad del Maestro Jesús de la Unidad\, Jesús del Amor». En esta época particular que atraviesa la humanidad entera\, por todos los acontecimientos de prueba que vivimos\, debemos ser esencialmente agradecidos con nuestro amado Maestro Jesús. Quien nos llena de esperanza\, nos inunda con Su amor misericordioso y cubre cada rincón de nuestra alma\, llenándola de luz y disponiéndola para la venida de Su Reino. Viviremos esta Solemnidad acompañando a Jesús de manera especial y profunda desde nuestros hogares. Como todos los años\, tendremos la celebración de la Santa Misa. Los invitamos a todos a que\, sin falta\, nos reunamos en familia y participemos con un corazón abierto y en un ambiente lleno de alegría\, de esta Sagrada Eucaristía en línea. \n¡Juntos en torno a nuestro maestro!
URL:https://www.oeuvredelunite.fr/event/misa-solemne-por-el-maestro-jesus-de-la-unidad-jesus-del-amor/
LOCATION:YouTube OMMRU
ORGANIZER;CN="OMMRU":MAILTO:info@obradelaunidad.org
END:VEVENT
BEGIN:VEVENT
DTSTART;TZID=America/Guatemala:20200510T100000
DTEND;TZID=America/Guatemala:20200510T110000
DTSTAMP:20260425T092915
CREATED:20200509T234633Z
LAST-MODIFIED:20200520T002626Z
UID:7669-1589104800-1589108400@www.oeuvredelunite.fr
SUMMARY:Misa Dominical
DESCRIPTION:El día de mañana tendremos la Gracia de asistir a la Santa Misa celebrada por nuestro sacerdote\, el Padre Milton Paredes. Renovemos la ilusión de acercarnos a Jesús Eucaristía en estos tiempos de adversidad. Elevemos nuestro corazón al cielo para que pueda vivir en alegría y agradecimiento. Porque tenemos la posibilidad\, en la intimidad de nuestros hogares\, de acercarnos a la Comunión Espiritual y recibir la Palabra de Dios\, cómo manantial para nuestras almas. Vamos a ofrecer esta Santa Misa en honor a nuestra Reina y Madre de la Unidad\, y a rogar por todas las madres del mundo entero.
URL:https://www.oeuvredelunite.fr/event/misa-dominical/
LOCATION:YouTube OMMRU
ORGANIZER;CN="OMMRU":MAILTO:info@obradelaunidad.org
END:VEVENT
BEGIN:VEVENT
DTSTART;TZID=America/Guatemala:20200419T100000
DTEND;TZID=America/Guatemala:20200419T110000
DTSTAMP:20260425T092915
CREATED:20200417T010250Z
LAST-MODIFIED:20200509T234625Z
UID:7461-1587290400-1587294000@www.oeuvredelunite.fr
SUMMARY:Santa Misa Domingo: Fiesta de la Divina Misericordia
DESCRIPTION:Imaginemos por un momento\, que Dios se presenta frente a nosotros con un llamado a confiar en su Misericordia\, porque entre más confiemos\, más gracias y regalos recibiremos. Qué le diríamos?. La Fiesta de la Divina Misericordia\, en esencia\, es que las almas del mundo entero\, lleguen a creer\, con plena confianza\, que nuestro Dios es infinitamente Misericordioso y nos ama a todos con su amor inagotable. Esta hermosa fiesta nos encamina a buscar siempre ser misericordiosos con nuestro prójimo\, así como lo es Dios con nosotros\, a demostrar esa misericordia\, a través de nuestra palabra y actos concretos de amor. Recordemos que el origen de la palabra “misericordia” en latín es: misereri\, que quiere decir compasión\, y cor\, que quiere decir corazón. De esta manera\, ser misericordioso es tener un corazón compasivo. Para celebrar esta festividad\, tenemos la gracia de prepararnos nueve días antes haciendo la Novena a la Divina Misericordia\, y la Coronilla de la Divina Misericordia a las 3 de la tarde. Preparemos nuestro corazón para asistir a la Santa Misa y recibir la Comunión Espiritual con mucha devoción.
URL:https://www.oeuvredelunite.fr/event/domingo-de-solemnidad-la-fiesta-de-la-divina-misericordia/
LOCATION:YouTube OMMRU
ORGANIZER;CN="OMMRU":MAILTO:info@obradelaunidad.org
END:VEVENT
BEGIN:VEVENT
DTSTART;TZID=UTC:20200411T190000
DTEND;TZID=UTC:20200411T200000
DTSTAMP:20260425T092915
CREATED:20200408T140544Z
LAST-MODIFIED:20200419T021245Z
UID:901-1586631600-1586635200@www.oeuvredelunite.fr
SUMMARY:SÁBADO SANTO: Vigilia Pascual
DESCRIPTION:El Sábado Santo es el día del silencio de Dios. En este día\, nuestra Iglesia vive la “Soledad de María”\, y realiza la celebración de la Vigilia Pascual\, donde se enciende el Cirio Pascual\, se Canta el Pregón Pascual y se lee la Liturgia Bautismal. Recordemos desde el inicio de este día\, a la Madre de nuestro Jesús\, a nuestra dulce Virgen María\, que llora por la dolorosa muerte de su hijo Santísimo y por la humanidad entera. Oremos junto a ella durante este tiempo de soledad profunda que vive su corazón. Acompañémosla en actitud de silencio y recogimiento\, en la espera de la Resurrección de su hijo Jesús. En la noche de este Sábado Santo\, estamos invitados a pasar en vela durante la Vigilia Pascual\, en honor a nuestro Señor resucitado!. Nos uniremos en línea a la Vigilia Pascual\, a través de nuestro canal de YouTube\, con espíritu de alegría e ilusión\, para recibir a Jesús resucitado que resplandece y vive para cada uno de nosotros. \n\nNuestro encuentro en:\n\nFrancia: A las 11h00 am (hora Ecuador)\n\nEcuador: A las 19h00 pm
URL:https://www.oeuvredelunite.fr/event/vigilia_pascual/
LOCATION:YouTube OMMRU
ORGANIZER;CN="OMMRU":MAILTO:info@obradelaunidad.org
END:VEVENT
BEGIN:VEVENT
DTSTART;TZID=UTC:20200410T140000
DTEND;TZID=UTC:20200410T160000
DTSTAMP:20260425T092915
CREATED:20200408T162556Z
LAST-MODIFIED:20200419T021325Z
UID:4835-1586527200-1586534400@www.oeuvredelunite.fr
SUMMARY:VIERNES SANTO: Adoración de la Santa Cruz
DESCRIPTION:El Viernes Santo es el día doloroso de la Crucifixión y Muerte de nuestro Señor. Este día\, nuestra Iglesia celebra la Muerte Salvadora de Cristo. Es el único día del año donde no tenemos Eucaristía\, pero sí una celebración litúrgica de la Muerte del Señor\, una celebración de la Palabra que concluye con la adoración de la Cruz y con la Comunión eucarística. Recordemos este momento de amor extremo de nuestro Jesús con cada uno de nosotros. Desde su agonía en el huerto de los Olivos\, se ofrece para salvar al mundo\, para salvarte a ti. Se abandona en manos de su Padre para transitar aquel camino de dolor profundo\, al abrazar y morir en la Cruz\, nos abraza y nos redime. Este Viernes Santo estamos llamados a unirnos en oración y sacrificio\, a la Pasión Dolorosa de nuestro Jesús\, meditando profundamente lo sucedido aquel día. Reconozcamos nuestra pequeñez y pecado frente a la grandeza de Dios y pidamos perdón con verdadero arrepentimiento\, por aquellas faltas de amor que lo han lastimado. Nos uniremos en línea este Viernes Santo\, en actitud y expresión sincera de piedad\, a través de nuestro canal de YouTube\, para el Via Crucis y luego\, a la Adoración de la Santa Cruz. \nNuestro encuentro en: \n\n\nFrancia: A las 10h00 am (hora Ecuador) – Vía Crucis y a las 11h00 am (hora Ecuador) – Adoración de la Santa Cruz\n\nEcuador: A las 14h00 pm – Vía Crucis y a las 15h00 pm – Adoración de la Santa Cruz
URL:https://www.oeuvredelunite.fr/event/viernes_santo/
LOCATION:YouTube OMMRU
ORGANIZER;CN="OMMRU":MAILTO:info@obradelaunidad.org
END:VEVENT
BEGIN:VEVENT
DTSTART;TZID=UTC:20200409T190000
DTEND;TZID=UTC:20200409T200000
DTSTAMP:20260425T092915
CREATED:20200408T152900Z
LAST-MODIFIED:20200419T021259Z
UID:4244-1586458800-1586462400@www.oeuvredelunite.fr
SUMMARY:JUEVES SANTO: La Santa Cena del Señor
DESCRIPTION:Con la celebración vespertina del Jueves Santo\, iniciamos la celebración del Triduo Pascual. Este día\, nuestra Iglesia conmemora la Institución de la Eucaristía\, del Sacerdocio Ministerial y la Institución del Mandamiento Nuevo: el Mandamiento del Amor. Recordemos aquella noche\, cuando Jesús comparte la Última Cena con sus discípulos\, se entrega enteramente a cada uno de nosotros\, como regalo de su amor incondicional\, nos deja el pan de vida eterna\, para que sintiéndolo íntimo y cercano\, caminemos en el amor y la verdad\, y permanezcamos unidos a El. Nuestro Señor Jesús\, lava los pies a sus discípulos\, mostrando con este gesto\, la actitud humilde\, generosa y de servicio\, que debemos tener con los demás. Este Jueves Santo\, a través de nuestro canal de YouTube\, estamos invitados a unirnos en línea desde cada uno de nuestros hogares\, con toda devoción\, a la Santa Misa de la Cena del Señor\, que será celebrada por uno de nuestros sacerdotes.\n\nNuestro encuentro en:\n\n\nFrancia: A las 11h00 am (hora Ecuador)\n\nEcuador: A las 19h00 pm
URL:https://www.oeuvredelunite.fr/event/jueves_santo/
LOCATION:YouTube OMMRU
ORGANIZER;CN="OMMRU":MAILTO:info@obradelaunidad.org
END:VEVENT
END:VCALENDAR